BEGIN:VCALENDAR
METHOD:PUBLISH
PRODID:-//doubleknot.com//CalenderEvent MIMEDIR//EN
VERSION:2.0
BEGIN:VEVENT
UID:1825334@doubleknot.com
CREATED:20151126T152128Z
LAST-MODIFIED:20151217T150846Z
DTSTAMP:20170904T235736Z
DTSTART;VALUE=DATE:20160305
DTEND;VALUE=DATE:20160326
LOCATION:US
CATEGORIES:
SUMMARY:2016 Merit Badge University (MBU) Classes
PRIORITY:5
BEGIN:VALARM
TRIGGER:PT15M
ACTION:DISPLAY
DESCRIPTION:Reminder
PRIORITY:5
END:VALARM
END:VEVENT
END:VCALENDAR
