BEGIN:VCALENDAR
METHOD:PUBLISH
PRODID:-//doubleknot.com//CalenderEvent MIMEDIR//EN
VERSION:2.0
BEGIN:VEVENT
UID:1973301@doubleknot.com
CREATED:20160827T185403Z
LAST-MODIFIED:20160827T190926Z
DTSTAMP:20170904T235734Z
DTSTART:20160910T120000Z
DTEND:20160910T163000Z
LOCATION:28 Central St., Foxboro, MA 02035, US
CATEGORIES:
DESCRIPTION:About the Course

Learn the fundamentals of running a successful troop, including program planning, the patrol method, advancement, and much more. For Scoutmasters and Assistant Scoutmasters, this course is part of the requirements to earn the "Trained" patch. 
 

Dates, Times, and Location


	September 10, 2016
	Foxboro Cable Access Studio
	Sessions run from 8:00 AM to 12:30 PM


Course Fee

$10 to cover training materials and refreshments 
 
SUMMARY:Scoutmaster Basic Training (S24)
PRIORITY:5
BEGIN:VALARM
TRIGGER:PT15M
ACTION:DISPLAY
DESCRIPTION:Reminder
PRIORITY:5
END:VALARM
END:VEVENT
END:VCALENDAR
