BEGIN:VCALENDAR
METHOD:PUBLISH
PRODID:-//doubleknot.com//CalenderEvent MIMEDIR//EN
VERSION:2.0
BEGIN:VEVENT
UID:2032793@doubleknot.com
CREATED:20161206T032922Z
LAST-MODIFIED:20170101T181845Z
DTSTAMP:20170904T235733Z
DTSTART:20170304T140000Z
DTEND:20170304T173000Z
LOCATION:250 Foundry St., Easton, MA 02375, US
CATEGORIES:
DESCRIPTION:About the Course

Learn the fundamentals of running a successful troop, including program planning, the patrol method, advancement, and much more. For Scoutmasters and Assistant Scoutmasters, this course is part of the requirements to earn the &quot;Trained&quot; patch. 
 

Dates, Times, and Location


	March 4 and 11, 2017
	Southeastern Vocational High School, Easton
	During Merit Badge University (MBU)
	Sessions run from 9:00 AM to 12:30 PM
	You must attend both sessions to complete the course
	This course does not count toward your troop&#39;s MBU volunteer requirement, so please make sure your troop has enough adults assisting as merit badge counselors, hall monitors, or other MBU staff.


Course Fee

Free for Old Colony Council leaders, thanks to the new activity fee that all scouts in our council pay with their annual registration. $10 for leaders from other councils. Donations appreciated if you enjoy our light refreshments. 
 
SUMMARY:Scoutmaster Basic Training - part 1 of 2 (S24)
PRIORITY:5
BEGIN:VALARM
TRIGGER:PT15M
ACTION:DISPLAY
DESCRIPTION:Reminder
PRIORITY:5
END:VALARM
END:VEVENT
END:VCALENDAR
