BEGIN:VCALENDAR
METHOD:PUBLISH
PRODID:-//doubleknot.com//CalenderEvent MIMEDIR//EN
VERSION:2.0
BEGIN:VEVENT
UID:2033903@doubleknot.com
CREATED:20161207T190142Z
LAST-MODIFIED:20170117T172855Z
DTSTAMP:20170904T235504Z
DTSTART;VALUE=DATE:20170120
DTEND;VALUE=DATE:20170122
LOCATION:2 Cuttersfield Rd, Plymouth, MA 02360, US
CATEGORIES:
DESCRIPTION:The Great ALASKAN Klondike 2017

Camp Squanto ~~ Myles Standish State Forest, Plymouth, MA

Organize your Scout and Webelos I/II&rsquo;s Patrols into Stampeder dog sled teams and take the Alaskan Challenge!  All Stampeders are guaranteed to enjoy! 
 

Events

Klondike ~ A test of Scout skills and endurance.  Boy Scouts compete against Boy Scouts and Webelos against Webelos for ribbons and glory. Each Patrol forms into a &ldquo;Stampeder Dog Sled Team&rdquo; and competes as a separate expedition. 
 

L&rsquo;Hivernant ~ Boy Scouts best a cold winter night&rsquo;s sleep in tents. 
 

**Webelos I/II Do Not Sleep Outside** 
 

$12/person Registration is due, through DoubleKnot, by January 5, 2017; after this date it is $14/person 
 

  
 

Boy Scout Units please contact Event Coordinator Dave Winters @ davidwwin@comcast.net 
 

Webelos Scout Units please contact Event Coordiator John Drugan @ jjdrugan@gmail.com 
 

  
 

For more information on station lists, please visit the Cranberry Harbors activities page  (https://oldcolonycouncil.doubleknot.com/activities/klondike-derby/65031) 
 

  
 
SUMMARY:2017 The Cranberry Harbors Great ALASKAN Klondike 2017
PRIORITY:5
BEGIN:VALARM
TRIGGER:PT15M
ACTION:DISPLAY
DESCRIPTION:Reminder
PRIORITY:5
END:VALARM
END:VEVENT
END:VCALENDAR
