BEGIN:VCALENDAR
METHOD:PUBLISH
PRODID:-//doubleknot.com//CalenderEvent MIMEDIR//EN
VERSION:2.0
BEGIN:VEVENT
UID:2043180@doubleknot.com
CREATED:20170101T150443Z
LAST-MODIFIED:20170107T043041Z
DTSTAMP:20170904T235733Z
DTSTART:20170506T123000Z
DTEND:20170506T203000Z
LOCATION:131 Emerald St., Wrentham, MA 02093, US
CATEGORIES:
DESCRIPTION:About the Course

A one-day introduction to the skills needed to plan and conduct Cub Scout outdoor activities. Learn about all the fun you can have outdoors! If your pack goes camping, at least one leader on the trip must be BALOO-trained. 
 

Dates, Times, and Location


	May 6, 2017
	Wrentham Developmental Center
	Sign in at 8:30 AM. We&#39;ll be done by 4:30 PM.
	Be prepared; we&#39;ll be outdoors!


Course Fee

$10 for leaders registered in Old Colony Council; $15 for out-of-council leaders.* This fee covers the cost of lunch, snacks, and training supplies.  
 

*Old Colony Council leaders get a discount because basic leader training costs are subsidized by an activity fee that all of our Scouts pay with their annual registration. 
 
SUMMARY:Basic Adult Leader Outdoor Orientation (BALOO) Training (C32)
PRIORITY:5
BEGIN:VALARM
TRIGGER:PT15M
ACTION:DISPLAY
DESCRIPTION:Reminder
PRIORITY:5
END:VALARM
END:VEVENT
END:VCALENDAR
