BEGIN:VCALENDAR
METHOD:PUBLISH
PRODID:-//doubleknot.com//CalenderEvent MIMEDIR//EN
VERSION:2.0
BEGIN:VEVENT
UID:2066063@doubleknot.com
CREATED:20170214T173139Z
LAST-MODIFIED:20170621T171409Z
DTSTAMP:20170904T234835Z
DTSTART:20171018T220000Z
DTEND:20171019T010000Z
LOCATION:320 Washington St, Easton, MA 02357, US
CATEGORIES:
SUMMARY:Officer's Meeting
PRIORITY:5
BEGIN:VALARM
TRIGGER:PT15M
ACTION:DISPLAY
DESCRIPTION:Reminder
PRIORITY:5
END:VALARM
END:VEVENT
END:VCALENDAR
