BEGIN:VCALENDAR
METHOD:PUBLISH
PRODID:-//doubleknot.com//CalenderEvent MIMEDIR//EN
VERSION:2.0
BEGIN:VEVENT
UID:2076940@doubleknot.com
CREATED:20170228T155848Z
LAST-MODIFIED:20170411T141430Z
DTSTAMP:20170904T234413Z
DTSTART;VALUE=DATE:20170915
DTEND;VALUE=DATE:20170917
LOCATION:200 Cutterfield Rd, Plymouth, MA 02360, US
CATEGORIES:
DESCRIPTION:  
 

Remember your Summer Camp medical form and Warm Clothes 
 

September Friday 15-Sunday 17 
 

  
 


  
 

Ordeal Weekend Specifics: Bring your summer camp medical form, a tent, sleeping bag, a tarp, rain jacket, a water bottle, a set of &quot;grubbies&quot;, a Class A scout uniform, and WARM CLOTHES. This is a work weekend. Adults bring tools to use and any materials that can contribute to a camp improvement project. All Ordeal and Brotherhood candidates should make a small arrow to wear around their neck. Don&#39;t get fancy-Brotherhood candidates won&#39;t be keeping theirs. Check-in by 7:00P.M. on Friday. 
 

Ordeal Candidates (Just Called Out)  $45.00  
 

Brotherhood Candidates $45.00  
 

Arrowmen $30.00 
 

Once you have completed your registration you will receive an Email Confirmation. 
 

Make checks payable to: Tisquantum Lodge 164, BSA. 
 

Mail to: Old Colony Council, 2438 Washington Street, Canton MA, 02021. Deadline is Sept 11th. 
 

For questions call the OCC Service Center at 781-828-8360. 
 

 

 

 
SUMMARY:2017 September Ordeal Weekend
PRIORITY:5
BEGIN:VALARM
TRIGGER:PT15M
ACTION:DISPLAY
DESCRIPTION:Reminder
PRIORITY:5
END:VALARM
END:VEVENT
END:VCALENDAR
