BEGIN:VCALENDAR
METHOD:PUBLISH
PRODID:-//doubleknot.com//CalenderEvent MIMEDIR//EN
VERSION:2.0
BEGIN:VEVENT
UID:2078106@doubleknot.com
CREATED:20170301T201558Z
LAST-MODIFIED:20170807T154259Z
DTSTAMP:20170904T234841Z
DTSTART;VALUE=DATE:20170813
DTEND;VALUE=DATE:20170818
LOCATION:200 Cutterfield Rd, Plymouth, MA 02360, US
CATEGORIES:
DESCRIPTION:The Old Colony Council invites you to become a Camp Squanto Investigator: 
 

 Camp Squanto Webelos Week ! 
 

  
 

Come join in the fun 
 

Earn Adventure Loops / Shoot BB / Master your Archery skills 
 

Go swimming, boating an fishing at Fawn Pond 
 

  
 

Cost: $300.00 per person  
 
SUMMARY:Webelos Week
PRIORITY:5
BEGIN:VALARM
TRIGGER:PT15M
ACTION:DISPLAY
DESCRIPTION:Reminder
PRIORITY:5
END:VALARM
END:VEVENT
END:VCALENDAR
