BEGIN:VCALENDAR
METHOD:PUBLISH
PRODID:-//doubleknot.com//CalenderEvent MIMEDIR//EN
VERSION:2.0
BEGIN:VEVENT
UID:2079302@doubleknot.com
CREATED:20170306T144226Z
LAST-MODIFIED:20170404T141830Z
DTSTAMP:20170904T235505Z
DTSTART;VALUE=DATE:20170408
DTEND;VALUE=DATE:20170409
LOCATION:Kingston, MA, US
CATEGORIES:
DESCRIPTION:Saturday April 8, 2017 
 
9:00 AM to 2:00 PM 
 
Location: Kingston Collection Mall 
 
 Kingston, MA 
 
Questions, please contact: 
 

David Hosford     dhosfordsr@gmail.com 
 

  
 

  
 

  
 

Registrations will only be taken on Doubleknot.com 
 

Once Registered you may mail payment to Old Colony Council 2438 Washington St Canton, MA 02021 
 

All payments must be recieved my April 4th. 
 

Patches will be given out the day of the event to units who Register by March 15 or will be given out three 
 

weeks after the event if Registering March 16 - April 4.  
 

Please put the event/Registration in MEMO Field of check 
 

There is a 5% Service Fee to Pay Online 
 
SUMMARY:Cranberry Harbors District Pinewood Derby
PRIORITY:5
BEGIN:VALARM
TRIGGER:PT15M
ACTION:DISPLAY
DESCRIPTION:Reminder
PRIORITY:5
END:VALARM
END:VEVENT
END:VCALENDAR
