BEGIN:VCALENDAR
METHOD:PUBLISH
PRODID:-//doubleknot.com//CalenderEvent MIMEDIR//EN
VERSION:2.0
BEGIN:VEVENT
UID:2138443@doubleknot.com
CREATED:20170609T185714Z
LAST-MODIFIED:20170828T193353Z
DTSTAMP:20170904T234827Z
DTSTART;VALUE=DATE:20171007
DTEND;VALUE=DATE:20171009
LOCATION:1-, 25 Stonegate Dr,, Medfield, MA 02052, US
CATEGORIES:
DESCRIPTION:Columbus Weekend 
 

Contact David Derian  
 

email: davidderianbhhspagerealty.com 
 

(508) 259-9369 
 

Fees to be determined 
 

  
 
SUMMARY:Seven Rivers Fall Camporee
PRIORITY:5
BEGIN:VALARM
TRIGGER:PT15M
ACTION:DISPLAY
DESCRIPTION:Reminder
PRIORITY:5
END:VALARM
END:VEVENT
END:VCALENDAR
