BEGIN:VCALENDAR
METHOD:PUBLISH
PRODID:-//doubleknot.com//CalenderEvent MIMEDIR//EN
VERSION:2.0
BEGIN:VEVENT
UID:2141652@doubleknot.com
CREATED:20170614T170551Z
LAST-MODIFIED:20170614T170551Z
DTSTAMP:20170904T234627Z
DTSTART;VALUE=DATE:20170905
DTEND;VALUE=DATE:20170906
LOCATION:US
CATEGORIES:
SUMMARY:Seven Rivers Roundtable
PRIORITY:5
BEGIN:VALARM
TRIGGER:PT15M
ACTION:DISPLAY
DESCRIPTION:Reminder
PRIORITY:5
END:VALARM
END:VEVENT
END:VCALENDAR
