BEGIN:VCALENDAR
METHOD:PUBLISH
PRODID:-//doubleknot.com//CalenderEvent MIMEDIR//EN
VERSION:2.0
BEGIN:VEVENT
UID:2141670@doubleknot.com
CREATED:20170614T171135Z
LAST-MODIFIED:20170614T171135Z
DTSTAMP:20170904T234816Z
DTSTART;VALUE=DATE:20171004
DTEND;VALUE=DATE:20171005
LOCATION:US
CATEGORIES:
SUMMARY:Cranberry Harbors Roundtable
PRIORITY:5
BEGIN:VALARM
TRIGGER:PT15M
ACTION:DISPLAY
DESCRIPTION:Reminder
PRIORITY:5
END:VALARM
END:VEVENT
END:VCALENDAR
