BEGIN:VCALENDAR
METHOD:PUBLISH
PRODID:-//doubleknot.com//CalenderEvent MIMEDIR//EN
VERSION:2.0
BEGIN:VEVENT
UID:2141671@doubleknot.com
CREATED:20170614T171135Z
LAST-MODIFIED:20170614T171135Z
DTSTAMP:20170904T234837Z
DTSTART;VALUE=DATE:20171101
DTEND;VALUE=DATE:20171102
LOCATION:US
CATEGORIES:
SUMMARY:Cranberry Harbors Roundtable
PRIORITY:5
BEGIN:VALARM
TRIGGER:PT15M
ACTION:DISPLAY
DESCRIPTION:Reminder
PRIORITY:5
END:VALARM
END:VEVENT
END:VCALENDAR
