BEGIN:VCALENDAR
METHOD:PUBLISH
PRODID:-//doubleknot.com//CalenderEvent MIMEDIR//EN
VERSION:2.0
BEGIN:VEVENT
UID:2141734@doubleknot.com
CREATED:20170614T174529Z
LAST-MODIFIED:20170614T174529Z
DTSTAMP:20170904T234832Z
DTSTART;VALUE=DATE:20171011
DTEND;VALUE=DATE:20171012
LOCATION:US
CATEGORIES:
SUMMARY:CH District Committee Meeting
PRIORITY:5
BEGIN:VALARM
TRIGGER:PT15M
ACTION:DISPLAY
DESCRIPTION:Reminder
PRIORITY:5
END:VALARM
END:VEVENT
END:VCALENDAR
