BEGIN:VCALENDAR
METHOD:PUBLISH
PRODID:-//doubleknot.com//CalenderEvent MIMEDIR//EN
VERSION:2.0
BEGIN:VEVENT
UID:2141843@doubleknot.com
CREATED:20170614T182139Z
LAST-MODIFIED:20170614T182139Z
DTSTAMP:20170904T234808Z
DTSTART;VALUE=DATE:20170916
DTEND;VALUE=DATE:20170917
LOCATION:US
CATEGORIES:
SUMMARY:Popcorn Show & Sell Pickup
PRIORITY:5
BEGIN:VALARM
TRIGGER:PT15M
ACTION:DISPLAY
DESCRIPTION:Reminder
PRIORITY:5
END:VALARM
END:VEVENT
END:VCALENDAR
