BEGIN:VCALENDAR
METHOD:PUBLISH
PRODID:-//doubleknot.com//CalenderEvent MIMEDIR//EN
VERSION:2.0
BEGIN:VEVENT
UID:2141898@doubleknot.com
CREATED:20170614T183732Z
LAST-MODIFIED:20170828T184800Z
DTSTAMP:20170904T234414Z
DTSTART:20170923T170000Z
DTEND:20170923T200000Z
LOCATION:470 Liberty St, Braintree, MA 02184, US
CATEGORIES:
DESCRIPTION:Lion &amp; Tiger Safari 
 

Where:  Pond Meadow Park, 470n Liberty St., Braintree 
 

When:  September 23, 2017 from 1-4 PM 
 

How Much:  $10.00  
 

Some Activities: 
 

Paw Paw Patch  Obstacle Course 
 

Hippo Bay Fishing Fun 
 

Reptile Studies 
 

The Magic Tree House Maze 
 

Mt. Lion Trail Hike 
 

Giant Jenga 
 

Jungle Boats 
 

Help the Jungle Grow 
 

Recycable Plant Lie 
 

All Hands Drumming 
 

  
 

For More info email:  Karen Silvia at gksil92@gmail.com 
 
SUMMARY:Lion/Tiger Safari
PRIORITY:5
BEGIN:VALARM
TRIGGER:PT15M
ACTION:DISPLAY
DESCRIPTION:Reminder
PRIORITY:5
END:VALARM
END:VEVENT
END:VCALENDAR
