BEGIN:VCALENDAR
METHOD:PUBLISH
PRODID:-//doubleknot.com//CalenderEvent MIMEDIR//EN
VERSION:2.0
BEGIN:VEVENT
UID:2141901@doubleknot.com
CREATED:20170614T184131Z
LAST-MODIFIED:20170614T184131Z
DTSTAMP:20170904T234811Z
DTSTART;VALUE=DATE:20170926
DTEND;VALUE=DATE:20170927
LOCATION:US
CATEGORIES:
SUMMARY:Squanto Commissioners Meeting
PRIORITY:5
BEGIN:VALARM
TRIGGER:PT15M
ACTION:DISPLAY
DESCRIPTION:Reminder
PRIORITY:5
END:VALARM
END:VEVENT
END:VCALENDAR
