BEGIN:VCALENDAR
METHOD:PUBLISH
PRODID:-//doubleknot.com//CalenderEvent MIMEDIR//EN
VERSION:2.0
BEGIN:VEVENT
UID:2141923@doubleknot.com
CREATED:20170614T193122Z
LAST-MODIFIED:20170614T193122Z
DTSTAMP:20170904T234838Z
DTSTART;VALUE=DATE:20171109
DTEND;VALUE=DATE:20171110
LOCATION:US
CATEGORIES:
SUMMARY:CH Commissioners Meeting
PRIORITY:5
BEGIN:VALARM
TRIGGER:PT15M
ACTION:DISPLAY
DESCRIPTION:Reminder
PRIORITY:5
END:VALARM
END:VEVENT
END:VCALENDAR
