BEGIN:VCALENDAR
METHOD:PUBLISH
PRODID:-//doubleknot.com//CalenderEvent MIMEDIR//EN
VERSION:2.0
BEGIN:VEVENT
UID:2141933@doubleknot.com
CREATED:20170614T193206Z
LAST-MODIFIED:20170614T195000Z
DTSTAMP:20170904T234839Z
DTSTART;VALUE=DATE:20171116
DTEND;VALUE=DATE:20171117
LOCATION:US
CATEGORIES:
SUMMARY:Squanto Commissioners Meeting
PRIORITY:5
BEGIN:VALARM
TRIGGER:PT15M
ACTION:DISPLAY
DESCRIPTION:Reminder
PRIORITY:5
END:VALARM
END:VEVENT
END:VCALENDAR
