BEGIN:VCALENDAR
METHOD:PUBLISH
PRODID:-//doubleknot.com//CalenderEvent MIMEDIR//EN
VERSION:2.0
BEGIN:VEVENT
UID:2141941@doubleknot.com
CREATED:20170614T193719Z
LAST-MODIFIED:20170614T193719Z
DTSTAMP:20170904T234811Z
DTSTART;VALUE=DATE:20170927
DTEND;VALUE=DATE:20170928
LOCATION:US
CATEGORIES:
SUMMARY:Venture Forum/VOA
PRIORITY:5
BEGIN:VALARM
TRIGGER:PT15M
ACTION:DISPLAY
DESCRIPTION:Reminder
PRIORITY:5
END:VALARM
END:VEVENT
END:VCALENDAR
