BEGIN:VCALENDAR
METHOD:PUBLISH
PRODID:-//doubleknot.com//CalenderEvent MIMEDIR//EN
VERSION:2.0
BEGIN:VEVENT
UID:2141952@doubleknot.com
CREATED:20170614T194200Z
LAST-MODIFIED:20170614T194200Z
DTSTAMP:20170904T234831Z
DTSTART;VALUE=DATE:20171009
DTEND;VALUE=DATE:20171010
LOCATION:US
CATEGORIES:
SUMMARY:Columbus Day - Service Center Closed
PRIORITY:5
BEGIN:VALARM
TRIGGER:PT15M
ACTION:DISPLAY
DESCRIPTION:Reminder
PRIORITY:5
END:VALARM
END:VEVENT
END:VCALENDAR
