BEGIN:VCALENDAR
METHOD:PUBLISH
PRODID:-//doubleknot.com//CalenderEvent MIMEDIR//EN
VERSION:2.0
BEGIN:VEVENT
UID:2141955@doubleknot.com
CREATED:20170614T194801Z
LAST-MODIFIED:20170614T194801Z
DTSTAMP:20170904T234835Z
DTSTART;VALUE=DATE:20171026
DTEND;VALUE=DATE:20171027
LOCATION:US
CATEGORIES:
SUMMARY:Squanto Eagle Board of Review
PRIORITY:5
BEGIN:VALARM
TRIGGER:PT15M
ACTION:DISPLAY
DESCRIPTION:Reminder
PRIORITY:5
END:VALARM
END:VEVENT
END:VCALENDAR
