BEGIN:VCALENDAR
METHOD:PUBLISH
PRODID:-//doubleknot.com//CalenderEvent MIMEDIR//EN
VERSION:2.0
BEGIN:VEVENT
UID:2141956@doubleknot.com
CREATED:20170614T194849Z
LAST-MODIFIED:20170614T194849Z
DTSTAMP:20170904T234836Z
DTSTART;VALUE=DATE:20171027
DTEND;VALUE=DATE:20171028
LOCATION:US
CATEGORIES:
SUMMARY:Popcorn take orders due/Prizes due/Popcorn returns due
PRIORITY:5
BEGIN:VALARM
TRIGGER:PT15M
ACTION:DISPLAY
DESCRIPTION:Reminder
PRIORITY:5
END:VALARM
END:VEVENT
END:VCALENDAR
