BEGIN:VCALENDAR
METHOD:PUBLISH
PRODID:-//doubleknot.com//CalenderEvent MIMEDIR//EN
VERSION:2.0
BEGIN:VEVENT
UID:2141958@doubleknot.com
CREATED:20170614T195053Z
LAST-MODIFIED:20170614T195053Z
DTSTAMP:20170904T234840Z
DTSTART;VALUE=DATE:20171119
DTEND;VALUE=DATE:20171120
LOCATION:US
CATEGORIES:
SUMMARY:Thanksgiving at Squanto
PRIORITY:5
BEGIN:VALARM
TRIGGER:PT15M
ACTION:DISPLAY
DESCRIPTION:Reminder
PRIORITY:5
END:VALARM
END:VEVENT
END:VCALENDAR
