BEGIN:VCALENDAR
METHOD:PUBLISH
PRODID:-//doubleknot.com//CalenderEvent MIMEDIR//EN
VERSION:2.0
BEGIN:VEVENT
UID:2142646@doubleknot.com
CREATED:20170615T132951Z
LAST-MODIFIED:20170615T132951Z
DTSTAMP:20170904T234840Z
DTSTART;VALUE=DATE:20171122
DTEND;VALUE=DATE:20171123
LOCATION:US
CATEGORIES:
SUMMARY:Service Center Closes at Noon
PRIORITY:5
BEGIN:VALARM
TRIGGER:PT15M
ACTION:DISPLAY
DESCRIPTION:Reminder
PRIORITY:5
END:VALARM
END:VEVENT
END:VCALENDAR
