BEGIN:VCALENDAR
METHOD:PUBLISH
PRODID:-//doubleknot.com//CalenderEvent MIMEDIR//EN
VERSION:2.0
BEGIN:VEVENT
UID:2142647@doubleknot.com
CREATED:20170615T133024Z
LAST-MODIFIED:20170615T133024Z
DTSTAMP:20170904T234840Z
DTSTART;VALUE=DATE:20171124
DTEND;VALUE=DATE:20171125
LOCATION:US
CATEGORIES:
SUMMARY:Service Center Closed
PRIORITY:5
BEGIN:VALARM
TRIGGER:PT15M
ACTION:DISPLAY
DESCRIPTION:Reminder
PRIORITY:5
END:VALARM
END:VEVENT
END:VCALENDAR
