BEGIN:VCALENDAR
METHOD:PUBLISH
PRODID:-//doubleknot.com//CalenderEvent MIMEDIR//EN
VERSION:2.0
BEGIN:VEVENT
UID:2152903@doubleknot.com
CREATED:20170621T173549Z
LAST-MODIFIED:20170621T173549Z
DTSTAMP:20170904T234839Z
DTSTART;VALUE=DATE:20171115
DTEND;VALUE=DATE:20171116
LOCATION:US
CATEGORIES:
SUMMARY:Executive Board Meeting
PRIORITY:5
BEGIN:VALARM
TRIGGER:PT15M
ACTION:DISPLAY
DESCRIPTION:Reminder
PRIORITY:5
END:VALARM
END:VEVENT
END:VCALENDAR
