BEGIN:VCALENDAR
METHOD:PUBLISH
PRODID:-//doubleknot.com//CalenderEvent MIMEDIR//EN
VERSION:2.0
BEGIN:VEVENT
UID:2158088@doubleknot.com
CREATED:20170705T021701Z
LAST-MODIFIED:20170705T022452Z
DTSTAMP:20170904T234417Z
DTSTART:20171021T120000Z
DTEND:20171022T160000Z
LOCATION:239 Moose Hill St., Sharon, MA 02067, US
CATEGORIES:
DESCRIPTION:About the Course

An overnight course geared toward planning and running successful (and FUN!) Webelos outdoor activities. You&#39;ll get hands-on instruction and practice in camping skills, outdoor cooking, first aid, knots, woods tools, outdoor-focused advancement adventures, program planning, and more. OWL is for any adults connected with the Cub Scout and Webelo programs. Special deal: We&#39;ve set up this OWL course so you&#39;ll also have the opportunity to complete the requirements for BALOO (Basic Adult Leader Outdoor Orientation). If your pack goes camping, at least one leader must be BALOO-trained. 
 

Dates, Times, and Location


	October 21-22, 2017
	Moose Hill Audubon Sanctuary, Sharon
	Sign in between 8:00 and 8:15 AM on Saturday, October 21. We&#39;ll have you on your way home by noon on Sunday.
	We will have an interfaith Scouts&#39; Own service on Sunday morning, which is our traditional way of fulfilling religious obligations on the trail.


Course Fee

$20 for leaders registered in Council 251 (Old Colony and Knox Trail); $30 for out-of-council leaders.* This charge covers Saturday lunch, Saturday dinner, evening snack, and Sunday breakfast, along with training supplies. 
 

*Old Colony and Knox Trail Council leaders get a discount because basic leader training costs are subsidized by an activity fee that all of our Scouts pay with their annual registration. 
 
SUMMARY:Outdoor Webelos Leader Skills (OWL) and BALOO Training (C32,C33)
PRIORITY:5
BEGIN:VALARM
TRIGGER:PT15M
ACTION:DISPLAY
DESCRIPTION:Reminder
PRIORITY:5
END:VALARM
END:VEVENT
END:VCALENDAR
