BEGIN:VCALENDAR
METHOD:PUBLISH
PRODID:-//doubleknot.com//CalenderEvent MIMEDIR//EN
VERSION:2.0
BEGIN:VEVENT
UID:2158089@doubleknot.com
CREATED:20170705T024127Z
LAST-MODIFIED:20170712T015951Z
DTSTAMP:20170904T234420Z
DTSTART:20171202T130000Z
DTEND:20171202T170000Z
LOCATION:28 Central St., Foxboro, MA 02035, US
CATEGORIES:
DESCRIPTION:This course is designed for any Boy Scout or Venturer who is currently serving as a Den Chief or interested in becoming a Den Chief. Here&rsquo;s what we will cover: 
 


	
	The roles and responsibilities of a Den Chief 
 
	
	
	Tips for working with Cub Scouts 
 
	
	
	Games, songs, and other fun activities that you can bring back to your den 
 
	


BSA has an online course at http://www.scouting.org/Training/Youth/DenChiefTraining.aspx, but trust us, it&rsquo;s a lot more fun to take this training in person! It&rsquo;s a great chance to meet fellow Den Chiefs, share ideas, and &ldquo;learn by doing.&rdquo; Den Leaders are also welcome to sit in and learn how a Den Chief can help your den. 
 


	
	Location: Foxboro Cable Access 
 
	
	
	Please pre-register online. We need to know how many supplies to prepare. No walk-ins. Registration is open until Thursday night, November 30. 
 
	

SUMMARY:Den Chief Training (C31)
PRIORITY:5
BEGIN:VALARM
TRIGGER:PT15M
ACTION:DISPLAY
DESCRIPTION:Reminder
PRIORITY:5
END:VALARM
END:VEVENT
END:VCALENDAR
