BEGIN:VCALENDAR
METHOD:PUBLISH
PRODID:-//doubleknot.com//CalenderEvent MIMEDIR//EN
VERSION:2.0
BEGIN:VEVENT
UID:2158091@doubleknot.com
CREATED:20170705T024951Z
LAST-MODIFIED:20170705T033603Z
DTSTAMP:20170904T234414Z
DTSTART:20171014T120000Z
DTEND:20171014T163000Z
LOCATION:28 Central St., Foxboro, MA 02035, US
CATEGORIES:
DESCRIPTION:About the Course

Learn the fundamentals of running a successful troop, including program planning, the patrol method, advancement, and much more. For Scoutmasters and Assistant Scoutmasters, this course is part of the requirements to earn the &quot;Trained&quot; patch. 
 

Dates, Times, and Location


	October 14, 2017
	Foxboro Cable Access Studio
	Sessions run from 8:00 AM to 12:30 PM


Course Fee

Free for leaders registered in Council 251 (Old Colony Knox Trail), thanks to the activity fee that all scouts in our council pay with their annual registration. $10 for leaders from other councils. Donations appreciated if you enjoy our light refreshments. 
 
SUMMARY:Scoutmaster Basic Training (S24)
PRIORITY:5
BEGIN:VALARM
TRIGGER:PT15M
ACTION:DISPLAY
DESCRIPTION:Reminder
PRIORITY:5
END:VALARM
END:VEVENT
END:VCALENDAR
