BEGIN:VCALENDAR
METHOD:PUBLISH
PRODID:-//doubleknot.com//CalenderEvent MIMEDIR//EN
VERSION:2.0
BEGIN:VEVENT
UID:2159078@doubleknot.com
CREATED:20170710T005044Z
LAST-MODIFIED:20170712T005408Z
DTSTAMP:20170904T234414Z
DTSTART:20170923T123000Z
DTEND:20170923T170000Z
LOCATION:200 Cutters Field Road, Plymouth, MA 02360, US
CATEGORIES:
DESCRIPTION:About the Course

Learn the fundamentals of running a successful troop, including program planning, the patrol method, advancement, and much more. For Scoutmasters and Assistant Scoutmasters, this course is part of the requirements to earn the &quot;Trained&quot; patch. 
 

Dates, Times, and Location


	September 23, 2017
	Camp Squanto, Plymouth
	The course runs from 8:30 AM to 1:00 PM


Course Fee

Free for leaders registered in Council 251 (Old Colony / Knox Trail), thanks to the activity fee that all scouts in our council pay with their annual registration. $10 for leaders from other councils. Donations appreciated if you enjoy our light refreshments. 
 
SUMMARY:Scoutmaster Basic Training (S24)
PRIORITY:5
BEGIN:VALARM
TRIGGER:PT15M
ACTION:DISPLAY
DESCRIPTION:Reminder
PRIORITY:5
END:VALARM
END:VEVENT
END:VCALENDAR
