BEGIN:VCALENDAR
METHOD:PUBLISH
PRODID:-//doubleknot.com//CalenderEvent MIMEDIR//EN
VERSION:2.0
BEGIN:VEVENT
UID:2161186@doubleknot.com
CREATED:20170712T013428Z
LAST-MODIFIED:20170712T013718Z
DTSTAMP:20170904T234417Z
DTSTART:20171028T120000Z
DTEND:20171029T160000Z
LOCATION:131 Emerald St., Wrentham, MA 02093, US
CATEGORIES:
DESCRIPTION:Outdoor Leader Skills (OLS) is an overnight hands-on training for Boy Scout leaders. It covers outdoor camping skills (cooking, knots, woods tools, etc.). Learn new skills, reinforce old ones, and build confidence to teach these skills to Scouts. For Scoutmasters and Assistant Scoutmasters, this course is part of the requirements to earn the &quot;Trained&quot; patch. It&#39;s also part of the requirements for adult leaders of a Venturing crew that runs an outdoor program. 
 

Dates, Times, and Location


	October 28-29, 2017
	Wrentham Developmental Center
	Arrive between 8 and 8:15 AM on Saturday, October 28. We&#39;ll have you on your way home by noon on Sunday.
	We will have an interfaith Scouts&#39; Own service on Sunday morning, which is our traditional way of fulfilling religious obligations on the trail.
	If you&#39;re not able to participate for the full Saturday/Sunday course, please sign up for our Friday/Saturday version of the course in the spring!


Course Fee

$20 for leaders registered in Council 251 (Old Colony / Knox Trail); $30 for out-of-council leaders.* This fee covers the cost of Saturday lunch, dinner, and snack; Sunday breakfast; and training supplies.  
 

*Council 251 leaders get a discount because basic leader training costs are subsidized by an activity fee that all of our Scouts pay with their annual registration. 
 
SUMMARY:Outdoor Leader Skills (OLS) Training for Boy Scout and Venturing Leaders (S11)
PRIORITY:5
BEGIN:VALARM
TRIGGER:PT15M
ACTION:DISPLAY
DESCRIPTION:Reminder
PRIORITY:5
END:VALARM
END:VEVENT
END:VCALENDAR
