BEGIN:VCALENDAR
METHOD:PUBLISH
PRODID:-//doubleknot.com//CalenderEvent MIMEDIR//EN
VERSION:2.0
BEGIN:VEVENT
UID:2161190@doubleknot.com
CREATED:20170712T015139Z
LAST-MODIFIED:20170712T015339Z
DTSTAMP:20170904T234420Z
DTSTART:20171104T120000Z
DTEND:20171104T160000Z
LOCATION:75 Commercial St., Weymouth, MA 02188, US
CATEGORIES:
DESCRIPTION:This course is designed for any Boy Scout or Venturer who is currently serving as a Den Chief or interested in becoming a Den Chief. Here&rsquo;s what we will cover: 
 


	
	The roles and responsibilities of a Den Chief 
 
	
	
	Tips for working with Cub Scouts 
 
	
	
	Games, songs, and other fun activities that you can bring back to your den 
 
	


BSA has an online course at http://www.scouting.org/Training/Youth/DenChiefTraining.aspx, but trust us, it&rsquo;s a lot more fun to take this training in person! It&rsquo;s a great chance to meet fellow Den Chiefs, share ideas, and &ldquo;learn by doing.&rdquo; Den Leaders are also welcome to sit in and learn how a Den Chief can help your den. 
 


	
	Location: Sacred Heart School, 75 Commercial St., Weymouth, MA 02188 
 
	
	
	Please pre-register online. We need to know how many supplies to prepare. No walk-ins. Registration is open until Thursday night, November 2. 
 
	

SUMMARY:Den Chief Training (C31)
PRIORITY:5
BEGIN:VALARM
TRIGGER:PT15M
ACTION:DISPLAY
DESCRIPTION:Reminder
PRIORITY:5
END:VALARM
END:VEVENT
END:VCALENDAR
