BEGIN:VCALENDAR
METHOD:PUBLISH
PRODID:-//doubleknot.com//CalenderEvent MIMEDIR//EN
VERSION:2.0
BEGIN:VEVENT
UID:2163727@doubleknot.com
CREATED:20170718T002742Z
LAST-MODIFIED:20170718T003441Z
DTSTAMP:20170904T234422Z
DTSTART:20171104T123000Z
DTEND:20171104T183000Z
LOCATION:100 Winter St., Norwood, MA 02062, US
CATEGORIES:
DESCRIPTION:Old Colony Council Venturing Adult and Youth Training 
 

  
 

Who: 
 

Venturing youth and adult leaders 
 

  
 

What: 
 

-Adults: Crew Advisor and Committee Trainings 
 
-Youth: Introduction to Leadership Skills for Crews (ILSC)  
 

We will also offer Venturing Youth Protection Training for anyone interested 
 

  
 

When: 
 
Saturday, November 4, 2017 
 
8:30 AM to 2:30 PM 
 

  
 

Where: 
 
First Congregational Church 
 
100 Winter St. 
 
Norwood, MA 02062 
 

  
 

How much: 
 

The course is free, but bring a lunch or bring $5 to order food (it&#39;s up to you). 
 

  
 

Adult contact: Lisa Silletti 617-851-2627 
 
SUMMARY:Venturing Adult and Youth Position-Specific Training (P21, P35)
PRIORITY:5
BEGIN:VALARM
TRIGGER:PT15M
ACTION:DISPLAY
DESCRIPTION:Reminder
PRIORITY:5
END:VALARM
END:VEVENT
END:VCALENDAR
