BEGIN:VCALENDAR
METHOD:PUBLISH
PRODID:-//doubleknot.com//CalenderEvent MIMEDIR//EN
VERSION:2.0
BEGIN:VEVENT
UID:2163742@doubleknot.com
CREATED:20170718T021912Z
LAST-MODIFIED:20170718T021912Z
DTSTAMP:20170904T234810Z
DTSTART:20170919T230000Z
DTEND:20170920T010000Z
LOCATION:66 Brooks Dr., Braintree, MA 02184, US
CATEGORIES:
DESCRIPTION:Training for anyone interested in helping to be a counselor for the Catholic religious awards (Parvuli Dei for Cub Scouts; Ad Altare Dei for Boy Scouts, etc.). 
 

For more information, contact our council&#39;s religious emblems coordinator: 
 

 
 
Trisha Carlson 
 
trisha.carlson@verizon.net 
 
617-755-8014 
 
SUMMARY:Catholic Religious Awards Training
PRIORITY:5
BEGIN:VALARM
TRIGGER:PT15M
ACTION:DISPLAY
DESCRIPTION:Reminder
PRIORITY:5
END:VALARM
END:VEVENT
END:VCALENDAR
