BEGIN:VCALENDAR
METHOD:PUBLISH
PRODID:-//doubleknot.com//CalenderEvent MIMEDIR//EN
VERSION:2.0
BEGIN:VEVENT
UID:2202370@doubleknot.com
CREATED:20170903T140459Z
LAST-MODIFIED:20170903T140711Z
DTSTAMP:20170904T234833Z
DTSTART:20171014T123000Z
DTEND:20171014T200000Z
LOCATION:204 Center St., North Easton, MA 02356, US
CATEGORIES:
DESCRIPTION:Cub Scout Leaders &ndash; join us for a great kickoff to the year! We&rsquo;ll have basic training for all Cub Scout leader positions, plus all sorts of other training workshops on crafts, games, cooking, and more. We&rsquo;ll also have exhibits and resources available for your pack (like applications and leader guides for sale). Activities will run throughout the day and you can come and go as you please. You&rsquo;re also welcome to bring your Cub-age youth; we&rsquo;ll run fun activities for them all day. 
 

This event is a great chance to meet fellow leaders, share ideas, and get ready for a fun and successful year of Cub Scouting! 
 

LOCATION 
 

Covenant Congregational Church 
 
204 Center St. 
 
North Easton, MA 02356 
 

TIMES 
 

Sessions will run from 8:30 to 4:00. Individual sessions are 30 minutes to 2 hours long. Visit the event webpage for a specific schedule of training sessions we&#39;re offering throughout the day. 
 

Lunch will be available between 11:30 &ndash; 1:30 for $5.00. Meal tickets can be purchased in advance or at the door.  
 

REGISTRATION 
 

Please register online. Pre-registration will help us get a good head count for supplies and food. You&#39;ll also be able to buy your optional lunch ticket now. 
 

MORE ABOUT TRAINING 
 

Basic training will cover your specific job (Den Leader, Cubmaster, Pack Trainer, or Pack Committee). You will... 
 


	Learn about your role in delivering a fun and successful Cub Scouting program
	Find out what resources are available to help you
	Pick up new skills, program ideas, games, activities, and more
	Meet other leaders and share ideas


Basic training covers the same requirements as the online &quot;Cub Leader Specific&quot; courses, but many leaders find the live version more rewarding and more fun! Once you&#39;ve completed Youth Protection training (online) and this course, you can proudly wear the &quot;Trained&quot; patch on your uniform. 
 

Other courses available may include: 
 


	Working with scouts with disabilities
	Crafts
	Skits and songs
	Games
	First aid
	Ceremonies
	Youth protection
	Online recordkeeping


Please pre-register so which know which topics will have the most interest! 
 
SUMMARY:Cub Leader Kickoff and Training Day (C40,C41,C42,C60,C61,C62)
PRIORITY:5
BEGIN:VALARM
TRIGGER:PT15M
ACTION:DISPLAY
DESCRIPTION:Reminder
PRIORITY:5
END:VALARM
END:VEVENT
END:VCALENDAR
